BEGIN:VCALENDAR
VERSION:2.0
PRODID:-//wp-events-plugin.com//7.2.3.1//EN
TZID:Europe/Berlin
X-WR-TIMEZONE:Europe/Berlin
BEGIN:VEVENT
UID:108@berliner-hospizaktionen.de
DTSTART;TZID=Europe/Berlin:20260413T180000
DTEND;TZID=Europe/Berlin:20260413T200000
DTSTAMP:20260330T220302Z
URL:https://berliner-hospizaktionen.de/events/lazarus-hospiz-forumabend-se
 xualitaet-im-alter/
SUMMARY:Lazarus Hospiz - Forumabend: Sexualität im Alter
DESCRIPTION:Die Gesundheits- und Sozialwissenschaftlerin Prof. Dr. Erika Fe
 ldhaus-Plumin spricht über das Thema Sexualität im Alter.\n\nDer Eintrit
 t ist frei. Eine Anmeldung nicht erforderlich.\n\nWeitere Informationen fo
 lgen.
CATEGORIES:Bildung &amp; Wissen
LOCATION:Festsaal Lazarus Haus\, Bernauer Str. 117\, Berlin\, Berlin\, 1335
 5\, Deutschland
GEO:52.534251;13.387772
X-APPLE-STRUCTURED-LOCATION;VALUE=URI;X-ADDRESS=Bernauer Str. 117\, Berlin\
 , Berlin\, 13355\, Deutschland;X-APPLE-RADIUS=100;X-TITLE=Festsaal Lazarus
  Haus:geo:52.534251,13.387772
END:VEVENT
BEGIN:VTIMEZONE
TZID:Europe/Berlin
X-LIC-LOCATION:Europe/Berlin
BEGIN:DAYLIGHT
DTSTART:20260329T030000
TZOFFSETFROM:+0100
TZOFFSETTO:+0200
TZNAME:CEST
END:DAYLIGHT
END:VTIMEZONE
END:VCALENDAR